BEGIN:VCALENDAR
VERSION:2.0
PRODID:-//REMID - ECPv6.15.20//NONSGML v1.0//EN
CALSCALE:GREGORIAN
METHOD:PUBLISH
X-WR-CALNAME:REMID
X-ORIGINAL-URL:https://remid.de
X-WR-CALDESC:Veranstaltungen für REMID
REFRESH-INTERVAL;VALUE=DURATION:PT1H
X-Robots-Tag:noindex
X-PUBLISHED-TTL:PT1H
BEGIN:VTIMEZONE
TZID:Europe/Berlin
BEGIN:DAYLIGHT
TZOFFSETFROM:+0100
TZOFFSETTO:+0200
TZNAME:CEST
DTSTART:20230326T010000
END:DAYLIGHT
BEGIN:STANDARD
TZOFFSETFROM:+0200
TZOFFSETTO:+0100
TZNAME:CET
DTSTART:20231029T010000
END:STANDARD
BEGIN:DAYLIGHT
TZOFFSETFROM:+0100
TZOFFSETTO:+0200
TZNAME:CEST
DTSTART:20240331T010000
END:DAYLIGHT
BEGIN:STANDARD
TZOFFSETFROM:+0200
TZOFFSETTO:+0100
TZNAME:CET
DTSTART:20241027T010000
END:STANDARD
BEGIN:DAYLIGHT
TZOFFSETFROM:+0100
TZOFFSETTO:+0200
TZNAME:CEST
DTSTART:20250330T010000
END:DAYLIGHT
BEGIN:STANDARD
TZOFFSETFROM:+0200
TZOFFSETTO:+0100
TZNAME:CET
DTSTART:20251026T010000
END:STANDARD
END:VTIMEZONE
BEGIN:VEVENT
DTSTART;TZID=Europe/Berlin:20241113T180000
DTEND;TZID=Europe/Berlin:20241114T200000
DTSTAMP:20260423T195407
CREATED:20240816T085831Z
LAST-MODIFIED:20240816T085831Z
UID:14028-1731520800-1731614400@remid.de
SUMMARY:Mitteralterliche jüdische Buchkunst in geteilten Kulturräumen auf der iberischen Halbinsel
DESCRIPTION:Goethe-Uni­ver­sität\, Frank­furt am Main \nVor­trag im Rah­men der Freiman Lec­ture von Katrin Kog­man-Appel.
URL:https://remid.de/termine/mitteralterliche-juedische-buchkunst-in-geteilten-kulturraeumen-auf-der-iberischen-halbinsel/
LOCATION:Goethe-Universität\, Campus Westend\, IG-Farben-Gebäude\, IG 411 Norbert-Wollheim-Platz 1\,
CATEGORIES:Öffentlicher Vortrag
END:VEVENT
END:VCALENDAR