BEGIN:VCALENDAR
VERSION:2.0
PRODID:-//REMID - ECPv6.15.20//NONSGML v1.0//EN
CALSCALE:GREGORIAN
METHOD:PUBLISH
X-WR-CALNAME:REMID
X-ORIGINAL-URL:https://remid.de
X-WR-CALDESC:Veranstaltungen für REMID
REFRESH-INTERVAL;VALUE=DURATION:PT1H
X-Robots-Tag:noindex
X-PUBLISHED-TTL:PT1H
BEGIN:VTIMEZONE
TZID:Europe/Berlin
BEGIN:DAYLIGHT
TZOFFSETFROM:+0100
TZOFFSETTO:+0200
TZNAME:CEST
DTSTART:20250330T010000
END:DAYLIGHT
BEGIN:STANDARD
TZOFFSETFROM:+0200
TZOFFSETTO:+0100
TZNAME:CET
DTSTART:20251026T010000
END:STANDARD
BEGIN:DAYLIGHT
TZOFFSETFROM:+0100
TZOFFSETTO:+0200
TZNAME:CEST
DTSTART:20260329T010000
END:DAYLIGHT
BEGIN:STANDARD
TZOFFSETFROM:+0200
TZOFFSETTO:+0100
TZNAME:CET
DTSTART:20261025T010000
END:STANDARD
BEGIN:DAYLIGHT
TZOFFSETFROM:+0100
TZOFFSETTO:+0200
TZNAME:CEST
DTSTART:20270328T010000
END:DAYLIGHT
BEGIN:STANDARD
TZOFFSETFROM:+0200
TZOFFSETTO:+0100
TZNAME:CET
DTSTART:20271031T010000
END:STANDARD
END:VTIMEZONE
BEGIN:VEVENT
DTSTART;TZID=Europe/Berlin:20260422T180000
DTEND;TZID=Europe/Berlin:20260422T200000
DTSTAMP:20260423T151324
CREATED:20260203T171911Z
LAST-MODIFIED:20260203T171911Z
UID:16892-1776880800-1776888000@remid.de
SUMMARY:Die Christlichen Rechte in den USA
DESCRIPTION:Kon­ser­v­a­tive Chris­ten haben die US-amerikanis­che Reli­gion und Poli­tik schon immer geprägt. Unter Don­ald Trump nimmt ihr Ein­fluss allerd­ings stark zu – ob es um Abtrei­bungsver­bot\, Schöp­fungslehre im öffentlichen Schu­lun­ter­richt\, tra­di­tionelle Geschlechter­rollen oder Ähn­lich­es geht. Der Vor­trag zeigt anhand einzel­ner Mit­glieder von Trumps aktuellem Kabi­nett ver­schiedene Strö­mungen des Christlichen Nation­al­is­mus auf\, die auf ver­schiedene Weisen das Chris­ten­tum in der amerikanis­chen Kul­tur und Gesellschaft noch stärk­er ver­ankern wollen\, als es ohne­hin der Fall ist. Dabei wer­den unter­schiedliche christlich-reak­tionäre Welt­bilder und Strate­gien eben­so skizziert wie promi­nente Führungsper­so­n­en in Trumps eng­stem Umkreis.
URL:https://remid.de/termine/die-christlichen-rechte-in-den-usa/
LOCATION:VHS Bochum\, Gustav-Heinemann-Platz 2-6\, Bochum\, Nordrhein-Westfalen\, 44787\, Germany
CATEGORIES:Öffentlicher Vortrag,Workshop
END:VEVENT
END:VCALENDAR