BEGIN:VCALENDAR
VERSION:2.0
PRODID:-//REMID - ECPv6.15.20//NONSGML v1.0//EN
CALSCALE:GREGORIAN
METHOD:PUBLISH
X-WR-CALNAME:REMID
X-ORIGINAL-URL:https://remid.de
X-WR-CALDESC:Veranstaltungen für REMID
REFRESH-INTERVAL;VALUE=DURATION:PT1H
X-Robots-Tag:noindex
X-PUBLISHED-TTL:PT1H
BEGIN:VTIMEZONE
TZID:Europe/Berlin
BEGIN:DAYLIGHT
TZOFFSETFROM:+0100
TZOFFSETTO:+0200
TZNAME:CEST
DTSTART:20240331T010000
END:DAYLIGHT
BEGIN:STANDARD
TZOFFSETFROM:+0200
TZOFFSETTO:+0100
TZNAME:CET
DTSTART:20241027T010000
END:STANDARD
BEGIN:DAYLIGHT
TZOFFSETFROM:+0100
TZOFFSETTO:+0200
TZNAME:CEST
DTSTART:20250330T010000
END:DAYLIGHT
BEGIN:STANDARD
TZOFFSETFROM:+0200
TZOFFSETTO:+0100
TZNAME:CET
DTSTART:20251026T010000
END:STANDARD
BEGIN:DAYLIGHT
TZOFFSETFROM:+0100
TZOFFSETTO:+0200
TZNAME:CEST
DTSTART:20260329T010000
END:DAYLIGHT
BEGIN:STANDARD
TZOFFSETFROM:+0200
TZOFFSETTO:+0100
TZNAME:CET
DTSTART:20261025T010000
END:STANDARD
BEGIN:DAYLIGHT
TZOFFSETFROM:+0100
TZOFFSETTO:+0200
TZNAME:CEST
DTSTART:20270328T010000
END:DAYLIGHT
BEGIN:STANDARD
TZOFFSETFROM:+0200
TZOFFSETTO:+0100
TZNAME:CET
DTSTART:20271031T010000
END:STANDARD
END:VTIMEZONE
BEGIN:VEVENT
DTSTART;VALUE=DATE:20251010
DTEND;VALUE=DATE:20260216
DTSTAMP:20260421T133245
CREATED:20250324T142154Z
LAST-MODIFIED:20260217T160201Z
UID:15091-1760054400-1771199999@remid.de
SUMMARY:Global Bible: Legacies of (Post-)Colonial Bible Translations in the Arctic\, Australia/Oceania and West Africa
DESCRIPTION:In the past two years\, the Glob­al Bible Project research team has ded­i­cat­ed itself inten­sive­ly to a crit­i­cal exam­i­na­tion of British and Ger­man con­tri­bu­tions to the cre­ation of a glob­al Bible\, i.e. the attempt to trans­late the Bible into all lan­guages of the world in the nine­teenth to ear­ly twen­ti­eth cen­turies. The research team has focused on three case study regions where Ger­man and British colo­nial­ism once pre­vailed: the Arc­tic\, Australia/Oceania and West Africa. Apart from pub­li­ca­tions in rep­utable jour­nals\, a sig­nif­i­cant event of the project in the last two years was the Glo­Bil Con­fer­ence at West­min­ster Col­lege\, Uni­ver­si­ty of Cam­bridge which brought togeth­er schol­ars from dif­fer­ent dis­ci­pli­nary back­grounds and from dif­fer­ent parts of the world (Africa\, Aus­tralia\, Europe). \nThe exhi­bi­tion will there­fore com­prise\, for instance\, ancient man­u­scripts\, trans­lat­ed Bibles and Bible por­tions in Euro­pean\, Arc­tic\, Ocean­ic\, and West African lan­guages. Vis­i­tors will have the oppor­tu­ni­ty to view phys­i­cal copies of the ear­li­est trans­lat­ed Bible por­tions in some of the indige­nous lan­guages of these regions. Apart from Bibles\, the exhi­bi­tion will also com­prise lin­guis­tic mate­ri­als such as gram­mars\, dic­tio­nar­ies\, text­books\, and oth­er items that con­tributed to the trans­la­tion of the Bible. This will demon­strate to vis­i­tors the mul­ti-step process behind mis­sion­ary Bible trans­la­tions in the nine­teenth and ear­ly twen­ti­eth cen­turies. It is impor­tant to men­tion that\, in most cas­es\, the lan­guages into which mis­sion­ar­ies and their local col­lab­o­ra­tors sought to trans­late the Chris­t­ian scrip­tures exist­ed ini­tial­ly in oral forms. Con­se­quent­ly\, mis­sion­ary lin­guis­tic endeav­ors\, encom­pass­ing col­lec­tion of words\, cre­ation of gram­mars\, primers\, dic­tio­nar­ies\, etc.\, were essen­tial prepara­to­ry work pri­or to the trans­la­tion of Bible.  In addi­tion to tex­tu­al mate­r­i­al\, the exhi­bi­tion will show­case ethno­graph­ic arte­facts relat­ed to the three regions which will illu­mi­nate the socio-cul­tur­al milieu with­in which mis­sion­ar­ies and their local coun­ter­parts lived and trans­lat­ed the Bible. It is also impor­tant to indi­cate that a vis­it to the exhi­bi­tion will be reward­ed with the oppor­tu­ni­ty to see art­works that were specif­i­cal­ly com­mis­sioned for the project and exe­cut­ed by Glob­al Major­i­ty artists from West Africa and Ocea­nia. The artists\, Leeza Awo­jo­bi (Bris­tol-based Cameroon­ian poet) and Man­fred Wkeng Aseng (New Guinean artist)\, engage  artis­ti­cal­ly with the post-colo­nial lega­cies of mis­sion­ary Bible trans­la­tions in their respec­tive regions of inter­est. Last­ly\, but cer­tain­ly not the least inter­est­ing\, the exhi­bi­tion will dis­play results from the Dig­i­tal Human­i­ties part of the project led by the Ser­vice Cen­ter for Dig­i­tal Human­i­ties of the Uni­ver­si­ty of Mün­ster. These will include a dig­i­tized map of the glob­al Bible move­ment and open access data­base. \nUlti­mate­ly\, the exhi­bi­tion seeks to pro­vide a forum for a post­colo­nial reflec­tion on the lega­cies of mis­sion-trans­lat­ed Bibles dur­ing the era  of Euro­pean colo­nial­ism in the Arc­tic\, Australia/Oceania\, and West Africa\, fore­ground­ing the essen­tial yet often over­looked con­tri­bu­tions of indige­nous Bible trans­la­tors will equal­ly be fore­ground­ed. An exhi­bi­tion cat­a­logue is being pre­pared with con­tri­bu­tions from select­ed Bible soci­eties of the Unit­ed Bible Soci­eties (UBS) and project team mem­bers to secure the results of the exhi­bi­tion. It will be pub­lished by the Bible Muse­um. \nDate and Time\nThe exhi­bi­tion will com­mence with an offi­cial open­ing cer­e­mo­ny on 10 Octo­ber 2025 at 18:00 CET in the Bible Muse­um. After­wards\, it will run until 1 March 2026\, dur­ing which peri­od vis­i­tors will be able to view the exhi­bi­tion dur­ing the Bible Museum’s usu­al open­ing hours. \nby Michael Wan­dusim (Mün­ster)
URL:https://remid.de/termine/global-bible-legacies-of-post-colonial-bible-translations-in-the-arctic-australia-oceania-and-west-africa/
LOCATION:Bibelmuseum der Universität Münster\, Pferdegasse 1\, Münster\, Nordrhein-Westfalen\, 48143\, Germany
CATEGORIES:Ausstellung
END:VEVENT
BEGIN:VEVENT
DTSTART;VALUE=DATE:20260212
DTEND;VALUE=DATE:20260214
DTSTAMP:20260421T133245
CREATED:20251117T111046Z
LAST-MODIFIED:20251117T111046Z
UID:16440-1770854400-1771027199@remid.de
SUMMARY:Interdisziplinäre Tagung: Konstellationen von Recht und Religion - Interdependenzen revisited
DESCRIPTION:Ziel der Tagung ist es\, das «und» weit­er zu durch­denken\, mit dem «Reli­gion» und «Recht» zueinan­der in Beziehung geset­zt wer­den: Welche unter­schiedlichen Kon­stel­la­tio­nen sind ange­sprochen\, wenn es um Recht und Reli­gion geht? \nGroßer Sem­i­nar­raum 002 (EG)
URL:https://remid.de/termine/interdisziplinaere-tagung-konstellationen-von-recht-und-religion-interdependenzen-revisited/
LOCATION:Universität Basel\, Nadelberg 10\, Basel\, 4051\, Schweiz
CATEGORIES:Symposium,Tagung
END:VEVENT
BEGIN:VEVENT
DTSTART;TZID=Europe/Berlin:20260212T090000
DTEND;TZID=Europe/Berlin:20260213T160000
DTSTAMP:20260421T133245
CREATED:20260109T105851Z
LAST-MODIFIED:20260109T105851Z
UID:16728-1770886800-1770998400@remid.de
SUMMARY:Seeing the Lights: Zoroastrians in the Islamic World
DESCRIPTION:The project ‘Arcs of Time: Zoroas­tri­an Philo­soph­i­cal Anthro­pol­o­gy’ project (AOT) has two goals: the first is to crit­i­cal­ly ana­lyze how Zoroas­tri­an thinkers the­o­rized human psy­chophys­i­cal com­po­si­tion and its rela­tion to human his­to­ry\, and the sec­ond is to schol­ars work­ing on Zoroas­tri­an Mid­dle Per­sian lit­er­a­ture and schol­ars work­ing on the mul­ti­fac­eted lit­er­a­ture pre­served in Ara­bic\, since the Zoroas­tri­ans writ­ing in Mid­dle Per­sian were con­tem­po­raries with many well-known Islam­ic authors writ­ing in Ara­bic. The ‘See­ing the Light’ work­shop is designed to achieve the sec­ond goal of aca­d­e­m­ic inte­gra­tion. Par­tic­i­pants are invit­ed to explore the man­i­fold ways Zoroas­tri­ans inter­sect with the wider Islam­ic world; this includes the crit­i­cal inher­i­tance of Greek and Aves­tan thought; the var­i­ous ways the Sasan­ian state was remem­bered by Zoroas­tri­ans and Mus­lims\, Per­sians and Arabs; as well as the local inter­ac­tions between com­mu­ni­ties. We hope to fos­ter dia­logue on the his­tor­i­cal set­ting\, the philo­soph­i­cal issues\, the con­crete debates\, and the sociopo­lit­i­cal struc­tures beneath the texts.
URL:https://remid.de/termine/seeing-the-lights-zoroastrians-in-the-islamic-world/
LOCATION:Externer Veranstaltungsort
CATEGORIES:Workshop
END:VEVENT
BEGIN:VEVENT
DTSTART;TZID=Europe/Berlin:20260212T130000
DTEND;TZID=Europe/Berlin:20260213T163000
DTSTAMP:20260421T133245
CREATED:20260109T114759Z
LAST-MODIFIED:20260109T114759Z
UID:16747-1770901200-1771000200@remid.de
SUMMARY:Interdisziplinäre Tagung: Konstellation von Recht und Religion - Interdependenzen revisited
DESCRIPTION:Ziel der Tagung ist es\, das «und» weit­er zu durch­denken\, mit dem «Reli­gion» und «Recht» zueinan­der in Beziehung geset­zt wer­den: Welche unter­schiedlichen Kon­stel­la­tio­nen sind ange­sprochen\, wenn es um Recht und Reli­gion geht? \nHier­für zielt die Tagung darauf ab\, die Ver­schieden­heit der Kon­stel­la­tio­nen jen­seits gängiger Ver­hält­nis­set­zun­gen sicht­bar zu machen. Die «Inter­de­pen­den­zen von Recht und Reli­gion»\, die dem ersten Work­shop (2012) und der daraus fol­gen­den gle­ich­nami­gen Pub­lika­tion den Titel gaben\, sollen dadurch sys­tem­a­tisch weit­er aufgeschlüs­selt wer­den. \nIm Sinne ein­er sys­tem­a­tisieren­den Heuris­tik\, lassen sich vier For­men der Kon­stel­la­tio­nen zwis­chen «Reli­gion» und «Recht» unter­schieden: \n(1) Recht und Reli­gion als getren­nte\, sich gegenüber\, und bisweilen in unter­schiedlichem Grade kon­flik­thaft ent­ge­gen­ste­hende Felder der Gesellschaft. \n(2) Reli­gion inner­halb von Recht beze­ich­net die Art und Weise\, wie inner­halb eines konkreten (staatlichen) Recht­sys­tems «Reli­gion» ver­han­delt\, definiert und bear­beit­et wird. \n(3) Recht inner­halb von Reli­gion zielt auf den Bezug zum Recht\, rechtliche For­ma­tio­nen und Prak­tiken inner­halb konkreter religiös­er Tra­di­tio­nen oder Organ­i­sa­tio­nen. \n(4) Kon­gruen­zen zwis­chen dem\, was unter den Kat­e­gorien Recht und Reli­gion gefasst wird als eine weit­ere Art der Rela­tion\, bei der die Aushand­lung der Gren­zen und Über­lagerun­gen der bei­den Felder selb­st zum The­ma gemacht wird. \nAn dieser heuris­tis­chen Sys­tem­atik ori­en­tiert sich die inhaltliche Struk­turierung der Ver­anstal­tung. Die Unter­schei­dung der Kon­stel­la­tio­nen hält die inhaltliche Beset­zung der bei­den Kat­e­gorien «Reli­gion» und «Recht» offen. Bei­de am empirischen Fall zu spez­i­fizieren ver­tieft das Ver­ständ­nis der Vield­imen­sion­al­ität der disku­tierten Rela­tio­nen. Denn das inter­diszi­plinäre Gespräch zwis­chen Reli­gion­swis­senschaft (und angren­zen­den Diszi­plinen) sowie der Rechtswis­senschaft zeigt\, dass die Vieldeutigkeit des Begriffs «Recht» der Vieldeutigkeit des Begriffs «Reli­gion» in nichts nach­ste­ht.
URL:https://remid.de/termine/interdisziplinaere-tagung-konstellation-von-recht-und-religion-interdependenzen-revisited/
LOCATION:Universität Basel\, Nadelberg 10\, Basel\, 4051\, Schweiz
CATEGORIES:Symposium,Tagung
END:VEVENT
END:VCALENDAR