BEGIN:VCALENDAR
VERSION:2.0
PRODID:-//REMID - ECPv6.15.20//NONSGML v1.0//EN
CALSCALE:GREGORIAN
METHOD:PUBLISH
X-ORIGINAL-URL:https://remid.de
X-WR-CALDESC:Veranstaltungen für REMID
REFRESH-INTERVAL;VALUE=DURATION:PT1H
X-Robots-Tag:noindex
X-PUBLISHED-TTL:PT1H
BEGIN:VTIMEZONE
TZID:Europe/Berlin
BEGIN:DAYLIGHT
TZOFFSETFROM:+0100
TZOFFSETTO:+0200
TZNAME:CEST
DTSTART:20240331T010000
END:DAYLIGHT
BEGIN:STANDARD
TZOFFSETFROM:+0200
TZOFFSETTO:+0100
TZNAME:CET
DTSTART:20241027T010000
END:STANDARD
BEGIN:DAYLIGHT
TZOFFSETFROM:+0100
TZOFFSETTO:+0200
TZNAME:CEST
DTSTART:20250330T010000
END:DAYLIGHT
BEGIN:STANDARD
TZOFFSETFROM:+0200
TZOFFSETTO:+0100
TZNAME:CET
DTSTART:20251026T010000
END:STANDARD
BEGIN:DAYLIGHT
TZOFFSETFROM:+0100
TZOFFSETTO:+0200
TZNAME:CEST
DTSTART:20260329T010000
END:DAYLIGHT
BEGIN:STANDARD
TZOFFSETFROM:+0200
TZOFFSETTO:+0100
TZNAME:CET
DTSTART:20261025T010000
END:STANDARD
END:VTIMEZONE
BEGIN:VEVENT
DTSTART;TZID=Europe/Berlin:20250721T180000
DTEND;TZID=Europe/Berlin:20250721T193000
DTSTAMP:20260421T122013
CREATED:20250510T151316Z
LAST-MODIFIED:20250510T151316Z
UID:15412-1753120800-1753126200@remid.de
SUMMARY:Abschlussdiskussion und Ausblick Steiner 2025 Vortragsreihe
DESCRIPTION:Stein­er 2025 Vor­tragsrei­he \nAbschluss­diskus­sion und Aus­blick \nDie Vor­tragsrei­he\, organ­isiert von dem Research on Anthro­pos­o­phy Net­work (RAN)\, ist dem 100. Jahrestag von Rudolf Stein­ers (1861–1925) Tod gewid­met. In der Rei­he wird zuerst die Rel­e­vanz und Aktu­al­ität der Forschung zur Anthro­poso­phie und Per­son Stein­ers vorgestellt und disku­tiert. Alle Vorträge bieten dann sowohl Ein­führun­gen als auch ver­tiefende Fragestel­lun­gen und Diskus­sio­nen zu zen­tralen und aktuellen The­men in der Anthrophoso­phie-Forschung\, wie die von Stein­er ini­ti­ierte Wal­dorf­päd­a­gogik\, die auf anthro­posophis­chen Konzepten basierende Welt­sicht in der Deme­ter-Land­wirtschaft\, Stein­er und die Anthro­poso­phie in der anglo­pho­nen Welt und die SEKEM-Ini­tia­tive als Wirtschaft­sun­ternehmen zwis­chen Islam und Anthro­poso­phie. Die Per­spek­tiv­en der ein­ge­lade­nen Gäste entstam­men den Erziehungs‑\, Sozial‑\, Geschichts- und Reli­gion­swis­senschaften. Eine Abschluss­diskus­sion stellt somit auch die Trans­diszi­pli­nar­ität und Mehrper­spek­tiv­ität in der Anthro­poso­phie-Forschung her­aus.
URL:https://remid.de/termine/abschlussdiskussion-und-ausblick-steiner-2025-vortragsreihe/
LOCATION:online
CATEGORIES:Öffentlicher Vortrag
END:VEVENT
END:VCALENDAR